BEGIN:VCALENDAR
VERSION:2.0
PRODID:-//HighThailand - ECPv6.15.20//NONSGML v1.0//EN
CALSCALE:GREGORIAN
METHOD:PUBLISH
X-ORIGINAL-URL:https://www.highthailand.com
X-WR-CALDESC:Events for HighThailand
REFRESH-INTERVAL;VALUE=DURATION:PT1H
X-Robots-Tag:noindex
X-PUBLISHED-TTL:PT1H
BEGIN:VTIMEZONE
TZID:UTC
BEGIN:STANDARD
TZOFFSETFROM:+0000
TZOFFSETTO:+0000
TZNAME:UTC
DTSTART:20220101T000000
END:STANDARD
END:VTIMEZONE
BEGIN:VEVENT
DTSTART;TZID=UTC:20250614T160000
DTEND;TZID=UTC:20250615T235900
DTSTAMP:20260426T005542
CREATED:20250521T121620Z
LAST-MODIFIED:20250521T122257Z
UID:39418-1749916800-1750031940@www.highthailand.com
SUMMARY:Thailand 420 - 10th Anniversary
DESCRIPTION:Thailand 420 – 10th Anniversary. Join us for an unforgettable celebration filled with great vibes\, new friendships\, and cherished memories in a familiar atmosphere. Enjoy the rooftop atmosphere right in the heart of Bangkok at JJ Mall in Chatuchak\, with both indoor and outdoor zones. The event features over 100 brands\, delicious food\, fun workshops\, and three stages of exciting live music\, each with its unique style. Main Stage Line Up June 14\, 2025: Soft Pine\, Moving and Cut\, Kai-Jo Brothers\, James Alyn\, Rastafah. June 15\, 2025: H 3 F\, KIKI\, Safeplanet\, The Paradise Bangkok Molam International Band\, YOUNGOHM. Attendees must be 20 years or older.
URL:https://www.highthailand.com/event/thailand-420-10th-anniversary/
LOCATION:JJ Mall Chatuchak\, 588 Kamphaeng Phet 2 Rd\, Khwaeng Chatuchak\, Khet Chatuchak\, Krung Thep Maha Nakhon 10900\, Thailand\, Khet Chatuchak\, Krung Thep Maha Nakhon\, 10900\, Thailand
CATEGORIES:Market,Music,Networking,Social Event,Workshop
ATTACH;FMTTYPE=image/jpeg:https://www.highthailand.com/wp-content/uploads/2025/05/494468072_606314969126789_613727477374063051_n.jpg
END:VEVENT
BEGIN:VEVENT
DTSTART;TZID=UTC:20250420T164500
DTEND;TZID=UTC:20250420T164500
DTSTAMP:20260426T005542
CREATED:20250418T005146Z
LAST-MODIFIED:20250418T005146Z
UID:38759-1745167500-1745167500@www.highthailand.com
SUMMARY:420 Special - Venice of Asia Vol. 2
DESCRIPTION:Hightable Bangkok at Emptyplatesbkk’s 420 special – Venice of Asia Vol. 2. \nDiscover an unseen Bangkok by boat\, enjoy dining on the river at a stunning riverside venue & indulge in a multi-course medicated fine dining meal guided by a professional Mary-Jane-chef! \nIncludes Free welcome drink\, welcome snack\, welcome smokes and giveaways! \nAdd on option: Organic flower pairing\, 4 premium strains. \nLimited Seats – advanced bookings only @ \nbookings@emotyplatesbangkok.com\nline: emptyplatesbkk
URL:https://www.highthailand.com/event/420-special-venice-of-asia-vol-2-2/
LOCATION:Sathorn\, Si Lom\, Bang Rak\, Bangkok 10120\, Thailand\, Bang Rak\, Bangkok\, 10120\, Thailand
CATEGORIES:Social Event
ATTACH;FMTTYPE=image/jpeg:https://www.highthailand.com/wp-content/uploads/2025/04/491460306_18308502946237885_5509868847659742870_n.jpg
END:VEVENT
BEGIN:VEVENT
DTSTART;TZID=UTC:20250420T162000
DTEND;TZID=UTC:20250420T162000
DTSTAMP:20260426T005542
CREATED:20250418T005357Z
LAST-MODIFIED:20250418T005357Z
UID:38755-1745166000-1745166000@www.highthailand.com
SUMMARY:420 Munchies
DESCRIPTION:420 Munchies at Darklab. \nTaste a little bit of all our new menu and a special mocktail made with syrups by @mrhorror.business for free. \nCozy up in DARKLAB and fill your tummies.
URL:https://www.highthailand.com/event/420-munchies/
LOCATION:DARK LAB\, 19/36 Soi Sukhumvit 65\, Khwaeng Phra Khanong Nuea\, Watthana\, Krung Thep Maha Nakhon 10110\, Thailand\, Watthana\, Krung Thep Maha Nakhon\, 10110\, Thailand
CATEGORIES:Social Event
ATTACH;FMTTYPE=image/jpeg:https://www.highthailand.com/wp-content/uploads/2025/04/491466757_17881519773275310_5300909620116621385_n.jpg
END:VEVENT
BEGIN:VEVENT
DTSTART;TZID=UTC:20250419T220000
DTEND;TZID=UTC:20250419T233000
DTSTAMP:20260426T005542
CREATED:20250416T053659Z
LAST-MODIFIED:20250416T053659Z
UID:38689-1745100000-1745105400@www.highthailand.com
SUMMARY:OFF THE HOOK: 420 SPECIAL
DESCRIPTION:OFF THE HOOK: 420 SPECIAL. Get lifted with us featuring the OKB family DJ GIFT OKB & DJ T.U.R.E. OKB bringing that native hip-hop heat all night long. Plus a special pop-up by Local Boys. Premium herbs\, and pure 420 energy. Celebrate the freedom to vibe\, move\, and be in this beautiful space. \nFree Entry | Table packages available. Pop-Up by Local Boys with Free Samples.
URL:https://www.highthailand.com/event/off-the-hook-420-special/
LOCATION:Izumo Green\, 18\, Sukhumvit Rd\, Khwaeng Khlong Toei Nuea\, Watthana\, Krung Thep Maha Nakhon 10110\, Thailand\, Watthana\, Krung Thep Maha Nakhon\, 10110\, Thailand
CATEGORIES:Party,Social Event
ATTACH;FMTTYPE=image/jpeg:https://www.highthailand.com/wp-content/uploads/2025/04/491433748_17943378182989336_8226352930706011029_n.jpg
ORGANIZER;CN="Izumo Green":MAILTO:contact@izumogreen.com
END:VEVENT
BEGIN:VEVENT
DTSTART;TZID=UTC:20240420T180000
DTEND;TZID=UTC:20240420T233000
DTSTAMP:20260426T005542
CREATED:20240412T161852Z
LAST-MODIFIED:20240412T161852Z
UID:36014-1713636000-1713655800@www.highthailand.com
SUMMARY:The 420 Cruise
DESCRIPTION:#420 Cruise is Back on Saturday 20 April ! Join for a Boat party like no other with your favorite Friends on the River : Bangkok island! They are. planning a massive Concert\, DJ Stage\, Stand up Comedy and more. \nThe Original 420 Cruise in Bangkok. \n📍📍 : Wat Worachanyawas (Charoen Krung Soi 72) The boat is inside the temple\n🗺️ : https://goo.gl/maps/5GexmSDJsAAGTsDh7\n➡️ 𝗕𝗔𝗡𝗚𝗞𝗢𝗞 𝗜𝗦𝗟𝗔𝗡𝗗\n📩 : Bangkokislands@gmail.com\nLine : @‌bangkokisland\n📞 +66 88 022 0666
URL:https://www.highthailand.com/event/the-420-cruise/
LOCATION:Bangkok Island\, Wat Worachanyawas\, Soi Charoen Krung 72\, Bang Kho Laem\, Bangkok\, Bangkok\, 10700\, Thailand
CATEGORIES:Cruise,Party,Social Event
ATTACH;FMTTYPE=image/png:https://www.highthailand.com/wp-content/uploads/2024/04/IMG_2454-1.png
ORGANIZER;CN="Bangkok Island":MAILTO:bangkokislands@gmail.com
END:VEVENT
BEGIN:VEVENT
DTSTART;TZID=UTC:20240420T162000
DTEND;TZID=UTC:20240420T233000
DTSTAMP:20260426T005542
CREATED:20240416T025736Z
LAST-MODIFIED:20240416T025904Z
UID:36036-1713630000-1713655800@www.highthailand.com
SUMMARY:The Terp Fest
DESCRIPTION:A feast for the senses\, crafted for connoisseurs of terpenes. Organising and uniting the terp lovers community.\nCome and chill and celebrate your 420 with Terp Fest 2024.  \nVenue: Highsociety – Hua Lamphong\nDate: 4.20.2024\nTime: 4:20PM – Till Closing\nTickets: FREE ENTRY FOR EVERY STONERS \nAlso available:\n420 THB for complimentary drinks and joints.\nor If you feeling fancy and always open for excitement DM the organizers
URL:https://www.highthailand.com/event/the-terp-fest/
LOCATION:HighSocietyHuaLamphong\, 23 34-35 Tri Mit Rd\, Talat Noi\, Samphanthawong\, Bangkok\, Bangkok\, 10100\, Thailand
CATEGORIES:Social Event
ATTACH;FMTTYPE=image/png:https://www.highthailand.com/wp-content/uploads/2024/04/Screenshot-2567-04-16-at-09.50.25.png
ORGANIZER;CN="HighSociety":MAILTO:hiso31bkk@gmail.com
END:VEVENT
BEGIN:VEVENT
DTSTART;TZID=UTC:20240420T162000
DTEND;TZID=UTC:20240420T162000
DTSTAMP:20260426T005542
CREATED:20240416T023335Z
LAST-MODIFIED:20240416T023335Z
UID:36021-1713630000-1713630000@www.highthailand.com
SUMMARY:Stoned & Co - Celebrating 420
DESCRIPTION:Celebrating 420 💨 \nBring a friend along and score a pair of tickets 🎫 for 420! ❤️‍🔥 FREE Pre roll\, drinks or Jelly 🍬 with every ticket. \nDouble the fun\, double the high! Join at Stoned for a 420 smoke filled celebration with OG @xuxu.party for a hip hop sesh! \nIndividual tickets 🎟️ at 250 includes your choice of pre-roll\, beer\, or jelly. See y’all \n📍STONED\, 2-fL seenspace\, Thonglor 13
URL:https://www.highthailand.com/event/stoned-co-celebrating-420/
LOCATION:Stoned&Co\, 13\, Seenspace Thonglor\, Khlong Tan Nuea\, Watthana\, Bangkok\, Bangkok\, 10110\, Thailand
CATEGORIES:Social Event
ATTACH;FMTTYPE=image/jpeg:https://www.highthailand.com/wp-content/uploads/2024/04/437264385_937461707786034_2392549355979477850_n.jpg
ORGANIZER;CN="Stoned&Co":MAILTO:info@stonedandco.co.th
END:VEVENT
BEGIN:VEVENT
DTSTART;TZID=UTC:20240420T162000
DTEND;TZID=UTC:20240420T162000
DTSTAMP:20260426T005542
CREATED:20240412T153515Z
LAST-MODIFIED:20240412T153759Z
UID:36003-1713630000-1713630000@www.highthailand.com
SUMMARY:In the Clouds
DESCRIPTION:Come celebrate this 4.20 with FourTwenty and other industry leading brands! With games\, food\, fun activities and special prizes for winners! \nLocation: High Garden\, Asoke\nDate: 20th\, April\nTime: 4:20 – 9PM \nFREE ENTRY
URL:https://www.highthailand.com/event/in-the-clouds/
LOCATION:Four Twenty Highgarden\, 32/9 Sukhumvit Road 21 Khlong Toei Nuea\, Watthana\, Khlong Toei\, Bangkok\, Bangkok\, 10110\, Thailand
CATEGORIES:Social Event
ATTACH;FMTTYPE=image/png:https://www.highthailand.com/wp-content/uploads/2024/04/Screenshot-2567-04-12-at-22.28.24.png
ORGANIZER;CN="Four Twenty Dispesary":MAILTO:Th.fourtwenty@gmail.com
END:VEVENT
BEGIN:VEVENT
DTSTART;TZID=UTC:20240420T150000
DTEND;TZID=UTC:20240420T150000
DTSTAMP:20260426T005542
CREATED:20240412T141822Z
LAST-MODIFIED:20240412T142405Z
UID:35974-1713625200-1713625200@www.highthailand.com
SUMMARY:Chiang High 42O
DESCRIPTION:Welcome to Chiang High 42O – A Laid-Back Experience \n ยินดีต้อนรับการกลับมาอีกครั้งกับงาน Chiang High 42O \n\n\n \nJoin under the sun-kissed sky of Chiang Mai on April 20th\, 2024\, from 3pm-10pm for an unforgettable celebration of Thailand’s finest scene.\n\n\n \n Mini Pools – Cool off and kick back in our splashy mini pools.\n Craft Beverage Booth – Sip on a selection of local craft beverages.\n The Grand Raffle – Win bongs\, cannabis delights\, and local dining gift cards.\n DJ Sets – Groove to the laid-back beats from our talented local entertainers: DJ Special K & DJ Vivi!\n Community Cup – Purchase a judging pack and participate in the process of selecting the best  of the best in Chiang Mai.\n\n \nAt\nLansieow – Freeative Art Space\nhttps://maps.app.goo.gl/angkmLKH3z1E47o67\n 
URL:https://www.highthailand.com/event/chiang-high-42o/
LOCATION:Lansieow – Freeative Art Space\, 175 Moo 5\, T. Suthep\, Chiang Mai\, Chiang Mai\, 50200\, Thailand
CATEGORIES:Cannabis Cup,Social Event
ATTACH;FMTTYPE=image/jpeg:https://www.highthailand.com/wp-content/uploads/2024/04/435545054_122137518614158160_6579843750426079753_n-2.jpg
END:VEVENT
BEGIN:VEVENT
DTSTART;TZID=UTC:20240406T180000
DTEND;TZID=UTC:20240407T010000
DTSTAMP:20260426T005542
CREATED:20240326T171925Z
LAST-MODIFIED:20240404T172255Z
UID:35787-1712426400-1712451600@www.highthailand.com
SUMMARY:UpperCut on Tour: Trunkee in Tree Town
DESCRIPTION:HighThailand presents UpperCut on Tour: Trunke in Tree Town \nOn the 6th of April we are going to be at The Budtender in Pattaya\, Tree Town. Come join us\, entry is free\, we got music\, food and \nas always we prepared flower drops by some of Thailand’s best cultivators.  \nThe event starts at 6pm on the 6th of April.  \nWhat to expect? Some of the best flowers in the kingdom\, good music\, a very mixed and diverse crowd – locals\, expats & tourists. No matter if you are a cultivator\, business owner\, artist\, influencer or consumer\, you will meet new friends! \nFlower Drops:\nUnderground Grower: Gas Basket\nFire Farms: Purple Panty Dropper\, Permanent Marker\nGreen Space: Night Moves & Banana Jellyz\nGhostgang/Olive Farms: Glaced Apricot x Medilin \nCanis Major: Da Funk\, Rozay Cake & Pineapple Burst\n22Babyface: \nReggae & Dub Music:\nDJ Select33\nRas Anatta \n  \n  \n  \n  \n 
URL:https://www.highthailand.com/event/uppercut-on-tour-trunkee-in-tree-town/
LOCATION:The Budtender – Tree Town\, The Budtender Tree Town - 502/19 S Pattaya Road\, Pattaya City\, Chon Buri\, 20150\, Thailand
CATEGORIES:Cannabis Community Event,Chillout,Party,Social Event
ATTACH;FMTTYPE=image/jpeg:https://www.highthailand.com/wp-content/uploads/2024/03/uc_PATTAYA-v3-insta.jpg
END:VEVENT
BEGIN:VEVENT
DTSTART;TZID=UTC:20240302T162000
DTEND;TZID=UTC:20240303T162000
DTSTAMP:20260426T005542
CREATED:20240328T121354Z
LAST-MODIFIED:20240328T121354Z
UID:35824-1709396400-1709482800@www.highthailand.com
SUMMARY:UpperCut Talk: Branding Bud in Thailand
DESCRIPTION:UpperCut Talk will feature David Paleschuck @paleschuck \, the Author of the Book Branding Bud @brandingbud. \nLocation: Amelie @ameliebkk in Chinatown \n4:20pm – 6pm Networking\n6pm-7pm Talk\nFrom 7pm Sesh \nDrops from:\n@22babyface_\n@canismajor_33\n@firefarms_thailand\n@green_space_cnx\n@ghostgvngcannabis\n@olivefarm_cultivateth\n@terpiegarden.th\n@undergroundgrower.th
URL:https://www.highthailand.com/event/uppercut-talk-branding-bud-in-thailand/
LOCATION:Amelie\, 133 Soi Ram Maitri\, Pom Prap\, Pom Prap Sattru Phai\, Bangkok\, Bangkok\, 10100\, Thailand
CATEGORIES:Cannabis Community Event,Social Event,Workshop
ATTACH;FMTTYPE=image/jpeg:https://www.highthailand.com/wp-content/uploads/2024/03/UC-Talk-Amelie-v-1-9-5E.jpg
ORGANIZER;CN="Amelie":MAILTO:info@worldofamelie.com
END:VEVENT
BEGIN:VEVENT
DTSTART;TZID=UTC:20240218T162000
DTEND;TZID=UTC:20240219T162000
DTSTAMP:20260426T005542
CREATED:20240328T115750Z
LAST-MODIFIED:20240328T115750Z
UID:35815-1708273200-1708359600@www.highthailand.com
SUMMARY:UpperCut: HipHop Sesh
DESCRIPTION:Join us as @uppercut.420 dives deep into the Thai HipHop and cannabis culture at PrettyHighCannabis Ekkamai @phc_ekkamai with our friends Younggu and Yungzu—a whole crew of local and international artists & special guests—live music—tattoos—food and so much more.\nStarting at 4:20pm till late – Free Entry \nSpecial drops by: \n@22babyface_\n@canismajor33.bkk\n@firefarms_thailand\n@green_space_cnx\n@powerpufff.g0 \nPerformances by:\n@wwwprettyboycom\n@yungzu1andonly\n@badbitchbkk\n@marco_maurer\n@lilgolo\n@tanboymiguel\n@baebibetti\n@ninyofficial\n@jomungkorn\n@djtob\n@dj_godg\n@cultshotta\n@worldofoni\n@jaefreshmen\n@ridedawave\n@illkanggg \nSpecial guests:\n@beer.soranut\n@crazyroll.bkk\n@topsdeep \nTattoo Promotion:\n@inkupbkk \nFood:\n@cholosbangkok
URL:https://www.highthailand.com/event/uppercut-hiphop-sesh-2/
LOCATION:PHC Ekkamai\, 126\, 37 Park Avenue\, Klongtan\, Watthana\, Bangkok\, Bangkok\, 10110\, Thailand
CATEGORIES:Cannabis Grower Community,Music,Party,Social Event
ATTACH;FMTTYPE=image/jpeg:https://www.highthailand.com/wp-content/uploads/2024/03/UC-PHC-Poster-3.jpg
END:VEVENT
BEGIN:VEVENT
DTSTART;TZID=UTC:20240114T162000
DTEND;TZID=UTC:20240115T162000
DTSTAMP:20260426T005542
CREATED:20240328T113501Z
LAST-MODIFIED:20240328T113501Z
UID:35808-1705249200-1705335600@www.highthailand.com
SUMMARY:UpperCut: Launch Party
DESCRIPTION:We invite you all to HighThailand’s UpperCut 2024 Launch party at Never Not High @nnh.bkk featured @crazyroll.bkk on the 14th of January 2024! Join us and 10 of Thailand’s best craft cultivators on the beginning of our 6 month journey! \n@22babyface_\n@canismajor_33\n@firefarms_thailand\n@green_space_cnx\n@olivefarm_cultivateth\n@powerpufff.g0\n@terpiegarden.th\n@trexthailand\n@undergroundgrower.th\n@yoda_can_grow \n@hsoasia\n@sovereign.thailand\n@teerabotanicals
URL:https://www.highthailand.com/event/uppercut-launch-party/
LOCATION:Never Not High\, 78-80 Soi\, Na Na\, Pom Prap\, Pomprabsattruphai\, Bangkok\, Bangkok\, 10200\, Thailand
CATEGORIES:Cannabis Community Event,Cannabis Grower Community,Chillout,Party,Social Event
ATTACH;FMTTYPE=image/jpeg:https://www.highthailand.com/wp-content/uploads/2024/03/UC-Launch-Party-Poster-A3-Large.jpeg
ORGANIZER;CN="Never Not High":MAILTO:nevernothigh.bkk@gmail.com
END:VEVENT
BEGIN:VEVENT
DTSTART;TZID=UTC:20230930T140000
DTEND;TZID=UTC:20231001T010000
DTSTAMP:20260426T005542
CREATED:20230926T145532Z
LAST-MODIFIED:20230926T145615Z
UID:33832-1696082400-1696122000@www.highthailand.com
SUMMARY:Nana Fest @ Never Not High
DESCRIPTION:Come and unwind with Never Not High at the Nana Fest\nwhich will be held on the 30th Sept – 1st Oct \nNever Not High is hosting unplugged live bands from Reub and Max Jenmana (for time schedule please see below) along with Art Exhibition by Tomato Head\, POHVISA\, FeelSoulFlowArts by Sai Pattaraporn and Wave_b1999. \nSpecial flowers and services by Shanti Dispensary BKK\, Crazy Roll and 420 Forest Club ✨ \n**No entrance fee! 🔥\ngrab a friend and come along! \n[30/09]\nOpen: 14.00\nReuben : 20.00\nDJ Nakarn : 21.30 till late \n[01/10]\nOpen: 14.00\nMax Jenmana: 20.00\nNo Know (DJ): 21.00 – 22.30\nDJ YP: 22.45 till late
URL:https://www.highthailand.com/event/nana-fest/
LOCATION:Never Not High\, 78-80 Soi\, Na Na\, Pom Prap\, Pomprabsattruphai\, Bangkok\, Bangkok\, 10200\, Thailand
CATEGORIES:Social Event
ATTACH;FMTTYPE=image/jpeg:https://www.highthailand.com/wp-content/uploads/2023/09/0B521795-9B07-4ED5-9B14-5B79545CBEF3.jpeg
ORGANIZER;CN="Never Not High":MAILTO:nevernothigh.bkk@gmail.com
END:VEVENT
BEGIN:VEVENT
DTSTART;TZID=UTC:20230708T150000
DTEND;TZID=UTC:20230709T120000
DTSTAMP:20260426T005542
CREATED:20230616T125346Z
LAST-MODIFIED:20230616T125346Z
UID:26446-1688828400-1688904000@www.highthailand.com
SUMMARY:The 8th Thailand 420
DESCRIPTION:The 8th Thailand 420 Get your tickets now!!\n.\nThe biggest and longest-occuring 420 Festival in Thailand. This year\, we are entering the 8th year of this annual festival. As always\, Highland will bring you an atmosphere brimming with joy\, laughter\, freedom\, and unwavering friendship.\n.\nThis year\, Highland is back on the 8th and 9th of July at JJ Mall Chatuchak\, 6th floor from 3:00 p.m. – 12:00 a.m. Enjoy the outdoor rooftop atmosphere or indoor zones\, along with a range of activities including concerts\, engaging workshops\, vibrant markets\, and various restaurants.\n.\nMain Stage Line Up\nSaturday\, July 8\, 2023\n– Temp.\n– Yew\n– รัศมีอีสานโซล\n– Paradise Bangkok\n– Joeyboy\n\n\nSunday\, July 9\, 2023\n– Rocket Man\n– Teddy Ska Brand\n– Rastafah\n– Kai-Jo Brothers\n– ไปส่งกู บขส. ดู๊\n\n\n\nEarly Bird Event tickets are available until July 2\, 2023:\n\n\n\n– 1-day pass: 600 Baht\n(Originally: 900 baht)\nChoose any day you want to attend!\n\n\n– 2-day pass: 1\,000 baht\n(Originally: 1\,500 baht)\n\n\nhttps://www.theconcert.com/highlandca…/the-8th-thailand420
URL:https://www.highthailand.com/event/the-8th-thailand-420/
LOCATION:JJ Mall\, 588 Kamphaeng Phet 2 Rd\, Chatuchak\, Bangkok\, Bangkok\, 10900\, Thailand
CATEGORIES:Concert,Social Event
ATTACH;FMTTYPE=image/jpeg:https://www.highthailand.com/wp-content/uploads/2023/06/354439054_586171043648722_4669855880860253570_n.jpg
END:VEVENT
BEGIN:VEVENT
DTSTART;TZID=UTC:20230624T190000
DTEND;TZID=UTC:20230625T233000
DTSTAMP:20260426T005542
CREATED:20230516T144607Z
LAST-MODIFIED:20230614T093943Z
UID:21635-1687633200-1687735800@www.highthailand.com
SUMMARY:HIGHTASTE x REMEDY'S & CHARLIE'S
DESCRIPTION:HighTable has partnered with Remedy’s & Charlie’s to bring you HighTaste.\nThe event will take place on Sat24-Sun25t June 2023 at Raymi Bar China Town.\n\n\n\nPlease note that the first and third floors are reserved for dispensaries or brands\, while the second floor is exclusively for local growers.\n\n\n\n\n\nFor more information\, please contact us through Line at @HighTable.Bangkok.\n\n\n\nJoin us an unforgettable experience!
URL:https://www.highthailand.com/event/hightaste-x-remedys-charlies/
LOCATION:Raymi Bar\, 576\, 5 FL\, Yaowarat Road Samphanthawong\, Bangkok\, Bangkok\, 10100\, Thailand
CATEGORIES:Social Event
ATTACH;FMTTYPE=image/jpeg:https://www.highthailand.com/wp-content/uploads/2023/05/346454456_1029796128001697_8641339627514349133_n.jpg
ORGANIZER;CN="Hightable":MAILTO:Hightable.bangkok@gmail.com
END:VEVENT
BEGIN:VEVENT
DTSTART;TZID=UTC:20230527T180000
DTEND;TZID=UTC:20230527T233000
DTSTAMP:20260426T005542
CREATED:20230520T042149Z
LAST-MODIFIED:20230520T042149Z
UID:21755-1685210400-1685230200@www.highthailand.com
SUMMARY:Chillvibes Party
DESCRIPTION:Welcome to the “Chillvibes Party”\n27 May 2023 \nat sukhumvit 42/1 \, near BTS Ekkamai and BTS Phra Khanong \nWe proud to present too many activities while you got high\n– Cannabis Compitition\n– Chillvibes Cannabis Award\n– Look Choup Workshop [Thai dessert]\n– Game Compitition [Tekken 7 \, FIFA]\n– Cocktail \, Beer \, Pizza \nCome and enjoy together
URL:https://www.highthailand.com/event/chillvibes-party/
LOCATION:ChillVibes\, 1036\, 12 Sukhumvit 42\, Phra Khanong\, Khlong Toei\, Bangkok\, Bangkok\, 10110\, Thailand
CATEGORIES:Social Event
ATTACH;FMTTYPE=image/jpeg:https://www.highthailand.com/wp-content/uploads/2023/05/348216019_631747961819207_525382811153481591_n.jpg
ORGANIZER;CN="ChillVibes":MAILTO:info@weedview.store
END:VEVENT
BEGIN:VEVENT
DTSTART;TZID=UTC:20230525T200000
DTEND;TZID=UTC:20230525T233000
DTSTAMP:20260426T005542
CREATED:20230520T035339Z
LAST-MODIFIED:20230520T035339Z
UID:21743-1685044800-1685057400@www.highthailand.com
SUMMARY:Say High 420
DESCRIPTION:The event “SAY HIGH 420”\, Meeting with the Cannabis community\n\n@ GREENLAND CANNABIS 420\n\n DATE MAY 25TH\, 2023 REGISTER 6 PM\n\n*Participation is only available to registered users.\n *Interested in joining the event\, contact us in the page message.\n*** No smoking in the shop ***
URL:https://www.highthailand.com/event/say-high-420/
LOCATION:Greenland Cannabis CNX\, 404 Tha Phae Road\, Chang Moi\, Chiang Mai\, Chiang Mai\, 50300\, Thailand
CATEGORIES:Social Event
ATTACH;FMTTYPE=image/jpeg:https://www.highthailand.com/wp-content/uploads/2023/05/IMG_7298.jpg
ORGANIZER;CN="Greenland Cannabis CNX":MAILTO:greenlandcannabis.420@gmail.com
END:VEVENT
BEGIN:VEVENT
DTSTART;TZID=UTC:20230512T170000
DTEND;TZID=UTC:20230512T220000
DTSTAMP:20260426T005542
CREATED:20230506T042403Z
LAST-MODIFIED:20230506T042403Z
UID:21439-1683910800-1683928800@www.highthailand.com
SUMMARY:Chiang Mai Ganjapreneur Community Sesh\, Dinner & Crawl
DESCRIPTION:The Chiang Mai Ganjapreneur Community will have its second meetup on Friday 12 May at 5pm at Flying Tiger!\n\nMeet at Flying Tiger for a sesh and some networking at 5pm\, then go grab dinner together somewhere nearby at 6:00pm\, followed by a dispensary crawl near Thae Pae Gate.\n\nLet’s elevate\, connect\, and enjoy the night together! Make sure to click “Going” if you’ll be there so we can get a head count!
URL:https://www.highthailand.com/event/chiang-mai-ganjapreneur-community-sesh-dinner-crawl/
LOCATION:Flying Tiger\, 29 Khotchasam Road\, Tambon Chang Moi\, Chiang Mai\, Chiang Mai\, 50100\, Thailand
CATEGORIES:Social Event
ATTACH;FMTTYPE=image/jpeg:https://www.highthailand.com/wp-content/uploads/2023/05/343563067_1374262243412998_3025634509609698119_n.jpg
END:VEVENT
BEGIN:VEVENT
DTSTART;TZID=UTC:20230420T150000
DTEND;TZID=UTC:20230422T230000
DTSTAMP:20260426T005542
CREATED:20230416T083358Z
LAST-MODIFIED:20230416T083358Z
UID:20869-1682002800-1682204400@www.highthailand.com
SUMMARY:Cannex Asia 4/20 Community
DESCRIPTION:𝗟𝗲𝘁’𝘀 𝗰𝗲𝗹𝗲𝗯𝗿𝗮𝘁𝗲 𝟰𝟮𝟬!\nCanneX Asia 4/20 COMMUNITY\nApril 20th – 22nd\, 2023\nat Helix Garden\, 5 fl.\, EmQuartier\n.\n𝗙𝗿𝗲𝗲 𝗲𝗻𝘁𝗿𝘆!!\n𝗣𝗿𝗲-𝗿𝗲𝗴𝗶𝘀𝘁𝗲𝗿 𝗴𝗲𝘁 𝘀𝗽𝗲𝗰𝗶𝗮𝗹 𝗴𝗶𝗳𝘁 𝗮𝘁 𝗧𝗵𝗲 𝗖𝗼𝗻𝗰𝗲𝗿𝘁 𝗕𝗼𝗼𝘁𝗵\n𝗥𝗲𝗴𝗶𝘀𝘁𝗲𝗿 𝗻𝗼𝘄 \nhttps://www.theconcert.com/5001471/20-22april \n 
URL:https://www.highthailand.com/event/cannex-asia-4-20-community/
LOCATION:Escape Bangkok\, 695 Sukhumvit Road\, Khlong Tan Nuea\, Watthana\, Bangkok\, Bangkok\, 10110\, Thailand
CATEGORIES:Flea Market,Social Event
ATTACH;FMTTYPE=image/png:https://www.highthailand.com/wp-content/uploads/2023/04/341704182_1137189460446169_5332591920778352389_n-1.png
END:VEVENT
BEGIN:VEVENT
DTSTART;TZID=UTC:20230318T162000
DTEND;TZID=UTC:20230319T000000
DTSTAMP:20260426T005542
CREATED:20230316T123043Z
LAST-MODIFIED:20230316T123043Z
UID:19728-1679156400-1679184000@www.highthailand.com
SUMMARY:How High @ UPPERYARD
DESCRIPTION:UpperYard introduces the “USERS” to the place we join and share relaxing experiences of using cannabis together. \n——–\nSAT 18 Mar 23 | 4:20 pm – Midnight \nEntry + Welcome Hit : 150.- \n——–\n: 1st floor : (Cafe/Outdoor)\nCraftfee Cafe & Izakaya\nบริการอาหาร เครื่องดื่ม ด้านนอกสามารถนั่งผ่อนคลายได้ด้วยควัน\nMeet The Growers\nพบปะพูดคุย แลกเปลี่ยนความรู้ความเข้าใจกันระหว่างผู้ปลูก ผู้ขายและผู้ใช้\n_________\n: 2nd floor : (Bedroom Market)\nCannabis & Equipments Shops\nฟาร์มและร้านค้ารับเชิญ กับสินค้าราคาพิเศษ และอุปกรณ์ต่างๆที่คัดสรรมานำเสนอ ในห้องนอน\nSmoking Zone\nจุด..สูบผ่อนคลาย ที่โถงทางเดินด้านนอก แลกเปลี่ยนประสบการณ์ในการผ่อนคลาย \n_________\n: 3rd floor : (Smoking Lounge)\nSmoking Bar\nจุด..สูบผ่อนคลาย ในบรรยากาศ ห้อง VIP\nEquipments Rental\nเช่าอุปกรณ์ใช้ในงานได้ เช่น บอง ไปป \nCannabis Omakase\nจัดเรียงรูปแบบ วิธีการใช้ และลำดับ ด้วยวัตถุดิบที่ดีที่สุดจากฟาร์ม ตามความเหมาะสมและความต้องการของ”ผู้ใช้” \nExclusive DJ & Live Music\nโยกย้ายอย่างผ่อนคลายด้วยเสียงเพลงจาก DJ Pakka และ วง “The Back Painers”
URL:https://www.highthailand.com/event/how-high-upperyard/
LOCATION:UpperYard\, 55/612 Soi B1 SukhothaiAve99 MuangThong Thani\, Bangpud\, Nonthaburi\, Bangkok\, Bangkok\, 11120\, Thailand
CATEGORIES:Music,Social Event
ATTACH;FMTTYPE=image/jpeg:https://www.highthailand.com/wp-content/uploads/2023/03/336090828_1227304694544240_4432203411212885072_n.jpg
END:VEVENT
BEGIN:VEVENT
DTSTART;TZID=UTC:20230317T200000
DTEND;TZID=UTC:20230317T233000
DTSTAMP:20260426T005542
CREATED:20230315T004218Z
LAST-MODIFIED:20230315T004218Z
UID:19693-1679083200-1679095800@www.highthailand.com
SUMMARY:High Society
DESCRIPTION:Da Vinci Presents \nFriday the 17th\, a special weed event about a newly grown outstanding weed lemon cherry gelato strain – from the Backpackboyz and some other special things to experience. \nCome for a amazing evening with good reggae music. \nThe event is located in patpong soi 2 in the patpong museums bar \nhttps://www.patpongmuseum.com
URL:https://www.highthailand.com/event/high-society/
LOCATION:Patpong Museum\, 5 Patpong Soi 2\, Bang Rak\, Bangkok\, Bangkok\, 10500\, Thailand
CATEGORIES:Social Event
ATTACH;FMTTYPE=image/png:https://www.highthailand.com/wp-content/uploads/2023/03/davonci_event.png
ORGANIZER;CN="DaVinci":MAILTO:info@patpongmuseum.com
END:VEVENT
END:VCALENDAR